BEGIN:VCALENDAR
VERSION:2.0
PRODID:-//California Creative Arts, Inc - ECPv6.15.20//NONSGML v1.0//EN
CALSCALE:GREGORIAN
METHOD:PUBLISH
X-WR-CALNAME:California Creative Arts, Inc
X-ORIGINAL-URL:https://californiacreativearts.org
X-WR-CALDESC:Events for California Creative Arts, Inc
REFRESH-INTERVAL;VALUE=DURATION:PT1H
X-Robots-Tag:noindex
X-PUBLISHED-TTL:PT1H
BEGIN:VTIMEZONE
TZID:UTC
BEGIN:STANDARD
TZOFFSETFROM:+0000
TZOFFSETTO:+0000
TZNAME:UTC
DTSTART:20240101T000000
END:STANDARD
END:VTIMEZONE
BEGIN:VEVENT
DTSTART;TZID=UTC:20250909T110000
DTEND;TZID=UTC:20251103T210000
DTSTAMP:20260424T234009
CREATED:20250824T174125Z
LAST-MODIFIED:20250824T174144Z
UID:4779-1757415600-1762203600@californiacreativearts.org
SUMMARY:“Trans/formation” Art Exhibit at the Colony Theatre
DESCRIPTION:Grab a friend\, watch a show or just mosey on over to see this fabulous exhibit. \nOpen during showtimes. \nPlease check The Colony Theatre for times.
URL:https://californiacreativearts.org/events/trans-formation-art-exhibit-at-the-colony-theatre/
LOCATION:The Colony Theatre\, 555 N. 3rd St.\, Burbank\, CA\, 91502\, United States
CATEGORIES:Public
ATTACH;FMTTYPE=image/png:https://californiacreativearts.org/wp-content/uploads/2025/08/web-Transformation.png
ORGANIZER;CN="California Creative Arts":MAILTO:cca@californiacreativearts.org
END:VEVENT
BEGIN:VEVENT
DTSTART;TZID=UTC:20250923T090000
DTEND;TZID=UTC:20260105T190000
DTSTAMP:20260424T234009
CREATED:20251010T193836Z
LAST-MODIFIED:20251010T193934Z
UID:5099-1758618000-1767639600@californiacreativearts.org
SUMMARY:“Baby It’s Cold Outside” California Creative Arts Pocket Gallery at the Joslyn Center
DESCRIPTION:“Baby It’s Cold Outside”\nCalifornia Creative Arts Pocket Gallery at the Joslyn Center\nExhibits September 23\, 2025 – January 5\, 2026 \nSupport local artists! Stop by and see this unique exhibit of smaller art pieces. And yes! They are for sale. \nThe gallery is open during business hours:\nM-TH 8a-8p | F 8a-6p | SA 9a-1p | SU 12p-1p
URL:https://californiacreativearts.org/events/baby-its-cold-outside-california-creative-arts-pocket-gallery-at-the-joslyn-center/
LOCATION:Joslyn Center\, 1301 W. Olive\, Burbank\, CA\, 91506\, United States
CATEGORIES:Public
ATTACH;FMTTYPE=image/png:https://californiacreativearts.org/wp-content/uploads/2025/09/SM-Joslyn-Baby-Its-Cold-2.png
ORGANIZER;CN="California Creative Arts":MAILTO:cca@californiacreativearts.org
END:VEVENT
BEGIN:VEVENT
DTSTART;TZID=UTC:20250925T110000
DTEND;TZID=UTC:20251206T160000
DTSTAMP:20260424T234009
CREATED:20250918T221401Z
LAST-MODIFIED:20250920T235347Z
UID:5046-1758798000-1765036800@californiacreativearts.org
SUMMARY:"Seeing Chicanx: The Durón Family Collection"
DESCRIPTION:The Laband Art Gallery proudly presents its Fall 2025 exhibition “Seeing Chicanx: The Durón Family Collection” on view from Sept. 25 to Dec. 6\, 2025. Exhibited during National Hispanic Heritage Month\, this expansive show presents a selection of nearly 50 Chicanx artists who have called Southern California their home. “Seeing Chicanx” is curated by Karen Mary Davalos\, a leading scholar of Chicana/o/x art history\, and drawn from the private collection of Armando and Mary Salinas Durón. The exhibition offers a multi-faceted portrayal of the Los Angeles region’s Chicanx art scene from the 1970s to present day. Davalos has selected close to 50 works from the Durón collection — that\, to date\, comprises more than 700 pieces — to encapsulate the cultural\, social\, and artistic ripple effects of the historic Chicano Movement (1965-80). \nOriginally exhibited at Monterey Museum of Art in spring 2024\, this traveling exhibition highlights key contemporary works from the collection to provide a visual history of the Chicanx community’s creative vitality in California. \nPublic Programming: \nCurator’s Walkthrough with Karen Mary Davalos\nSaturday\, Sept. 27\, 2025 Noon to 1 p.m.\, Laband Art Gallery \nOpening Reception\nSaturday\, Sept. 27\, 2025\, from 1 to 3 p.m.\, Laband Art Gallery \nGallery Conversation with Armando Durón & Max Durón\nSaturday\, Nov. 15\, 2025\, 1 p.m.\, Laband Art Gallery\nJoin Armando Durón and his son Maximiliano Durón\, senior editor of ARTnews\, in their first public discussion about the Durón Family Collection \nWESTCHESTER MAIN CAMPUS\n1 LMU Drive\nLos Angeles\, CA 90045\n310.338.2700 \nPhoto credit: Roberto Gutierrez (b. 1943)\, “Trees on Lorena Street\,” 2008\, Acrylic on canvas\, 36 x 24 in. The Durón Family Collection\, Copyright held by the artist.
URL:https://californiacreativearts.org/events/seeing-chicanx-the-duron-family-collection/
LOCATION:Laband Art Gallery\, 1 LMU Drive\, Los Angeles\, CA\, 90045
CATEGORIES:Public
ATTACH;FMTTYPE=image/jpeg:https://californiacreativearts.org/wp-content/uploads/2025/09/duron-family-collection-roberto-gutierrez.jpg
END:VEVENT
BEGIN:VEVENT
DTSTART;TZID=UTC:20251007T110000
DTEND;TZID=UTC:20251231T170000
DTSTAMP:20260424T234009
CREATED:20251010T193551Z
LAST-MODIFIED:20251010T194014Z
UID:5097-1759834800-1767200400@californiacreativearts.org
SUMMARY:“Tableaux Vivants” Art Exhibit at The Gallery in the Salit Conservatory
DESCRIPTION:The “Tableaux Vivants” Art Exhibit at The Gallery in the Salit Conservatory\nExhibition Dates: October 7 – TBD \nSupport local artists! Stop by and see this gorgeous exhibit. And yes! They are for sale. \nSalit Conservatory\n1001 W Riverside Dr.\nBurbank\, CA 91506 \nPick-up: TBD \nThe Gallery is open during normal business hours. Call for times salitmusicla.com
URL:https://californiacreativearts.org/events/tableaux-vivants-art-exhibit-at-the-gallery-in-the-salit-conservatory/
LOCATION:CA
CATEGORIES:Public
ATTACH;FMTTYPE=image/png:https://californiacreativearts.org/wp-content/uploads/2025/10/SM-Tableaux-Vivants2.png
END:VEVENT
END:VCALENDAR