BEGIN:VCALENDAR
VERSION:2.0
PRODID:-//California Creative Arts, Inc - ECPv6.15.20//NONSGML v1.0//EN
CALSCALE:GREGORIAN
METHOD:PUBLISH
X-WR-CALNAME:California Creative Arts, Inc
X-ORIGINAL-URL:https://californiacreativearts.org
X-WR-CALDESC:Events for California Creative Arts, Inc
REFRESH-INTERVAL;VALUE=DURATION:PT1H
X-Robots-Tag:noindex
X-PUBLISHED-TTL:PT1H
BEGIN:VTIMEZONE
TZID:UTC
BEGIN:STANDARD
TZOFFSETFROM:+0000
TZOFFSETTO:+0000
TZNAME:UTC
DTSTART:20250101T000000
END:STANDARD
END:VTIMEZONE
BEGIN:VEVENT
DTSTART;TZID=UTC:20260207T080000
DTEND;TZID=UTC:20260404T170000
DTSTAMP:20260424T200316
CREATED:20260211T180928Z
LAST-MODIFIED:20260309T031750Z
UID:5501-1770451200-1775322000@californiacreativearts.org
SUMMARY:LMU's Laband Art Gallery Presents Noni Olabisi: When Lightning Strikes Jan. 29-April 4
DESCRIPTION:Loyola Marymount University’s Laband Art Gallery presents the first institutional exhibition to shine a light on the extraordinary and underrecognized career of Noni Olabisi (1954 -2022)\, an artist and muralist whose works have become defining centerpieces in neighborhoods and communities in South Los Angeles. “Noni Olabisi: When Lightning Strikes” opens Thursday\, Jan. 29\, and continues through Saturday\, March 28\, 2026. A free public opening reception will be held Saturday\, Feb. 7\, from 1 to 3 p.m. \n“Noni Olabisi: When Lightning Strikes” includes more than 40 works created from 1984 to 2022 that honor Olabisi’s remarkable work as an artist\, muralist\, and mentor. Olabisi is known for her bold and daring public artworks\, in particular three superlative murals in Los Angeles: “Freedom Won’t Wait” (1992); “To Protect and Serve” (1995); and “Troubled Island” (2003). What unites all her work — whether writ large on a concrete wall or rendered on canvas — is Olabisi’s lifelong commitment to telling truthful stories of contemporary Black people as well as their forebears. Indeed\, she possessed a deep sense of pride in Black identity and infused her portraits ranging from Black leaders like Malcolm X to her beloved son\, Oronde\, and grandson\, Jabari\, with hope\, dignity and joy. \nThe title of the exhibition — “When Lightning Strikes” — can be understood as a recognition of the everyday miracles Olabisi experienced and celebrated in her life as well as the hardship she suffered\, particularly in childhood. \n“Noni Olabisi: When Lightning Strikes” is supported in part by a BIPOC grant from LMU College of Communication and Fine Arts (CFA)\, which supports CFA’s dedication to fostering diverse representation in curriculum and programming. The exhibition also reflects the mission of LMU’s Inclusive History and Images Project (IHIP)\, which advances the university’s commitment to illuminate untold stories of diverse lived experiences\, both on the campus and beyond. \nFree Public Programming \nMural Tour: Saturday\, March 14 from 11 a.m. – 2 p.m.\nLaband staff will organize a guided tour of a selection of Olabisi’s murals. Space is limited and RSVP is required. \nCommunities in Conversation: Saturday\, March 21\, from 11 a.m. to 2:30 p.m.\, Murphy Recital Hall.\nA gathering of artists and collaborators will share their recollections of working with Olabisi. \nLive Choral Music: Tuesday\, March 24 and Thursday\, March 26 at 3 p.m.\, Laband Art Gallery\nLMU Consort Singers will perform music by Dr. William Grant Still. \nImage credit: Noni Olabisi\, “To Protect and Serve\,” 1995\, Acrylic\, 12 x 40 ft.\, 11th Ave. at Jefferson Blvd. Photo credit: Social and Public Art Resource Center (SPARC)\, The Great Walls Unlimited: Neighborhood Pride Mural Program\, 1988-2002\, Courtesy of Laband Art Gallery\, Copyright held by the Estate of Noni Olabisi \ncfa.lmu.edu/labandgallery/exhibitions/noniolabisiwhenlightningstrikes/
URL:https://californiacreativearts.org/events/lmus-laband-art-gallery-presents-noni-olabisi-when-lightning-strikes-jan-29-march-28/
LOCATION:Laband Art Gallery\, 1 LMU Drive\, Los Angeles\, CA\, 90045
CATEGORIES:Public
ATTACH;FMTTYPE=image/jpeg:https://californiacreativearts.org/wp-content/uploads/2026/02/1995_2025_To-Protect-and-Serve-2.jpg
END:VEVENT
BEGIN:VEVENT
DTSTART;TZID=UTC:20260218T110000
DTEND;TZID=UTC:20260518T203000
DTSTAMP:20260424T200316
CREATED:20260401T022637Z
LAST-MODIFIED:20260401T022637Z
UID:5711-1771412400-1779136200@californiacreativearts.org
SUMMARY:“Everything Is Fine” Art Exhibit
DESCRIPTION:Grab a friend and stop by this amazing exhibit! \nExhibit is open around show times. Call or check their show schedule. \nhttps://www.colonytheatre.org/ \n 
URL:https://californiacreativearts.org/events/everything-is-fine-art-exhibit-2/
LOCATION:CA
ATTACH;FMTTYPE=image/png:https://californiacreativearts.org/wp-content/uploads/2026/02/SM-everything-SM-sq.png
END:VEVENT
BEGIN:VEVENT
DTSTART;TZID=UTC:20260302T090000
DTEND;TZID=UTC:20260410T180000
DTSTAMP:20260424T200316
CREATED:20260309T032034Z
LAST-MODIFIED:20260309T032034Z
UID:5634-1772442000-1775844000@californiacreativearts.org
SUMMARY:“Citius\, Altius\, Fortius-Communiter” Art Exhibit
DESCRIPTION:
URL:https://californiacreativearts.org/events/citius-altius-fortius-communiter-art-exhibit/
LOCATION:CA
CATEGORIES:Public
ATTACH;FMTTYPE=image/png:https://californiacreativearts.org/wp-content/uploads/2026/03/SM-Citius-sq.png
END:VEVENT
END:VCALENDAR