BEGIN:VCALENDAR
VERSION:2.0
PRODID:-//California Creative Arts, Inc - ECPv6.15.20//NONSGML v1.0//EN
CALSCALE:GREGORIAN
METHOD:PUBLISH
X-WR-CALNAME:California Creative Arts, Inc
X-ORIGINAL-URL:https://californiacreativearts.org
X-WR-CALDESC:Events for California Creative Arts, Inc
REFRESH-INTERVAL;VALUE=DURATION:PT1H
X-Robots-Tag:noindex
X-PUBLISHED-TTL:PT1H
BEGIN:VTIMEZONE
TZID:UTC
BEGIN:STANDARD
TZOFFSETFROM:+0000
TZOFFSETTO:+0000
TZNAME:UTC
DTSTART:20220101T000000
END:STANDARD
END:VTIMEZONE
BEGIN:VEVENT
DTSTART;TZID=UTC:20240812T090000
DTEND;TZID=UTC:20240908T170000
DTSTAMP:20260425T105956
CREATED:20240722T032631Z
LAST-MODIFIED:20241127T195112Z
UID:3515-1723453200-1725814800@californiacreativearts.org
SUMMARY:"Banking On Art" Exhibit at Gain Federal Credit Union
DESCRIPTION:We all know the value of beautiful art and how much it can enrich our lives. California Creative Arts is pleased to announce the Second Annual Art Show hosted by Gain Federal Credit Union on Magnolia Blvd in the heart of Burbank\, CA. \nThis beautiful modern space includes their teller area along with their lounge atrium area. Art will be displayed on wire grid panels placed throughout the area for all of their clients and public to enjoy during business hours.
URL:https://californiacreativearts.org/events/banking-on-art-exhibit-at-gain-federal-credit-union/
CATEGORIES:Public
ATTACH;FMTTYPE=image/png:https://californiacreativearts.org/wp-content/uploads/2024/08/Banking-GFCU-rev.png
END:VEVENT
BEGIN:VEVENT
DTSTART;TZID=UTC:20240810T170000
DTEND;TZID=UTC:20240810T190000
DTSTAMP:20260425T105956
CREATED:20240722T031826Z
LAST-MODIFIED:20241127T195129Z
UID:3510-1723309200-1723316400@californiacreativearts.org
SUMMARY:Opening Reception at Gain Federal Credit Union for "Banking On Art"
DESCRIPTION:
URL:https://californiacreativearts.org/events/opening-reception-at-gain-federal-credit-union-for-banking-on-art/
LOCATION:Gain Federal Credit Union\, 1800 W. Magnolia Blvd.\, Burbank\, CA\, United States
CATEGORIES:Public
ATTACH;FMTTYPE=image/png:https://californiacreativearts.org/wp-content/uploads/2024/08/Banking-GFCU-invite-rev.png
END:VEVENT
BEGIN:VEVENT
DTSTART;TZID=UTC:20240716T120000
DTEND;TZID=UTC:20240825T210000
DTSTAMP:20260425T105956
CREATED:20240722T032153Z
LAST-MODIFIED:20241127T195143Z
UID:3513-1721131200-1724619600@californiacreativearts.org
SUMMARY:"Summer of '24 Board & Committee Art Exhibit
DESCRIPTION:
URL:https://californiacreativearts.org/events/summer-of-24-board-committee-art-exhibit/
LOCATION:The Colony Theatre\, 555 N. 3rd St.\, Burbank\, CA\, 91502\, United States
CATEGORIES:Public
ATTACH;FMTTYPE=image/png:https://californiacreativearts.org/wp-content/uploads/2024/07/CCA-Helix1.png
END:VEVENT
BEGIN:VEVENT
DTSTART;TZID=UTC:20240607T170000
DTEND;TZID=UTC:20240716T200000
DTSTAMP:20260425T105956
CREATED:20240614T222404Z
LAST-MODIFIED:20241127T195148Z
UID:3461-1717779600-1721160000@californiacreativearts.org
SUMMARY:"Hungry Like A Wolf" Art Exhibit
DESCRIPTION:
URL:https://californiacreativearts.org/events/hungry-like-a-wolf-art-exhibit/
LOCATION:The Colony Theatre\, 555 N. 3rd St.\, Burbank\, CA\, 91502\, United States
CATEGORIES:Public
ATTACH;FMTTYPE=image/png:https://californiacreativearts.org/wp-content/uploads/2024/06/Hungry-Like-A-Wolf-web1.png
END:VEVENT
BEGIN:VEVENT
DTSTART;TZID=UTC:20240511T110000
DTEND;TZID=UTC:20240511T160000
DTSTAMP:20260425T105956
CREATED:20240407T042750Z
LAST-MODIFIED:20240407T042822Z
UID:3209-1715425200-1715443200@californiacreativearts.org
SUMMARY:Elevate Burbank Multicultural Arts Festival 2024
DESCRIPTION:
URL:https://californiacreativearts.org/events/elevate-burbank-multicultural-arts-festival-2024/
CATEGORIES:Public
ATTACH;FMTTYPE=image/jpeg:https://californiacreativearts.org/wp-content/uploads/2024/04/Elevate-Burbank-2024.jpg
END:VEVENT
BEGIN:VEVENT
DTSTART;TZID=UTC:20240504T110000
DTEND;TZID=UTC:20240504T160000
DTSTAMP:20260425T105956
CREATED:20240429T005836Z
LAST-MODIFIED:20241127T195209Z
UID:3292-1714820400-1714838400@californiacreativearts.org
SUMMARY:Tolucan Times Spring Fling Art Fair
DESCRIPTION:
URL:https://californiacreativearts.org/events/tolucan-times-spring-fling-art-fair/
LOCATION:Downtown Toluca Lake\, Talofa Ave amd Riverside Drive\, Toluca Lake\, CA\, 91602\, United States
ATTACH;FMTTYPE=image/png:https://californiacreativearts.org/wp-content/uploads/2024/04/TLSFArtFair.png
END:VEVENT
BEGIN:VEVENT
DTSTART;TZID=UTC:20240420T180000
DTEND;TZID=UTC:20240420T220000
DTSTAMP:20260425T105956
CREATED:20240328T024233Z
LAST-MODIFIED:20240328T024350Z
UID:3159-1713636000-1713650400@californiacreativearts.org
SUMMARY:Deco Building Art Exhibition
DESCRIPTION:Randall Williams and friends are throwing a party at The Deco Building on Wilshire. There will be food\, drinks and dancing – free admission!
URL:https://californiacreativearts.org/events/deco-building-art-exhibition/
LOCATION:The Deco Building\, 5209 Wilshire Blvd.\, Los Angeles\, CA\, 90036
ATTACH;FMTTYPE=image/png:https://californiacreativearts.org/wp-content/uploads/2024/03/Deco-Bldg.png
END:VEVENT
BEGIN:VEVENT
DTSTART;TZID=UTC:20240420T180000
DTEND;TZID=UTC:20240420T200000
DTSTAMP:20260425T105956
CREATED:20240417T001244Z
LAST-MODIFIED:20240417T001339Z
UID:3261-1713636000-1713643200@californiacreativearts.org
SUMMARY:Once Upon a Cocktail
DESCRIPTION:Support local women artists at this celebration of art\, vodka + books.
URL:https://californiacreativearts.org/events/once-upon-a-cocktail/
LOCATION:Ten Women\, 1128 Montana Ave\, Santa Monica\, CA\, 90403\, United States
CATEGORIES:Public
ATTACH;FMTTYPE=image/jpeg:https://californiacreativearts.org/wp-content/uploads/2024/04/68729b2b-e011-4028-8fae-8239a9b933d8.jpg
END:VEVENT
BEGIN:VEVENT
DTSTART;TZID=UTC:20240415T080000
DTEND;TZID=UTC:20240615T210000
DTSTAMP:20260425T105956
CREATED:20240417T000816Z
LAST-MODIFIED:20240417T000848Z
UID:3258-1713168000-1718485200@californiacreativearts.org
SUMMARY:The Artist Tree
DESCRIPTION:Anahid Boghosian at The Artist Tree! \nAll details on the graphic – step out and enjoy art from this amazing artist!
URL:https://californiacreativearts.org/events/the-artist-tree/
CATEGORIES:Public
ATTACH;FMTTYPE=image/png:https://californiacreativearts.org/wp-content/uploads/2024/04/Screen-Shot-2024-04-16-at-2.23.19-PM.png
END:VEVENT
BEGIN:VEVENT
DTSTART;TZID=UTC:20240319T110000
DTEND;TZID=UTC:20240419T210000
DTSTAMP:20260425T105956
CREATED:20240323T220625Z
LAST-MODIFIED:20240323T220659Z
UID:3144-1710846000-1713560400@californiacreativearts.org
SUMMARY:Mini Board & Committee Show March 2024
DESCRIPTION:March 19 – TBD\n“Mini Board & Committee Show March 2024” Art Exhibit at The Colony Theatre\nBurbank\, CA \nA fun exhibit in the Colony Theatre Art Gallery \nCheck their website for upcoming shows and hours of operation.
URL:https://californiacreativearts.org/events/mini-board-committee-show-march-2024/
LOCATION:The Colony Theatre\, 555 N. 3rd St.\, Burbank\, CA\, 91502\, United States
CATEGORIES:Public
ATTACH;FMTTYPE=image/png:https://californiacreativearts.org/wp-content/uploads/2024/03/March-Board.png
END:VEVENT
BEGIN:VEVENT
DTSTART;TZID=UTC:20240308T200000
DTEND;TZID=UTC:20240309T010000
DTSTAMP:20260425T105956
CREATED:20240307T010109Z
LAST-MODIFIED:20240307T233355Z
UID:3113-1709928000-1709946000@californiacreativearts.org
SUMMARY:International Women's Day Art Show & All women Vendor Market
DESCRIPTION:All Ladies line up of Live music\, art & vendor pop up shops. Live art battle & art painting. Support and discover talented artists. All ages! \n\n\nYou can get tickets HERE
URL:https://californiacreativearts.org/events/international-womens-day-art-show-all-women-vendor-market/
CATEGORIES:Public
ATTACH;FMTTYPE=image/jpeg:https://californiacreativearts.org/wp-content/uploads/2024/03/IMG_20240306_225153_815.jpg
END:VEVENT
BEGIN:VEVENT
DTSTART;TZID=UTC:20240304T090000
DTEND;TZID=UTC:20240329T180000
DTSTAMP:20260425T105956
CREATED:20240205T213136Z
LAST-MODIFIED:20240205T213136Z
UID:3071-1709542800-1711735200@californiacreativearts.org
SUMMARY:Don Locke "3 Seasons" Solo Art Exhibit
DESCRIPTION:Don Locke’s  3 Seasons refers to 3 periods in the artistic life of Don Locke. He began his fine art career in Laguna Beach in the 1970’s\, showing his Pen & Ink work in the prestigious Festival of Arts\, the Sawdust Festival\, and in various galleries. \nFor the last 10 years Don has concentrated on oil painting\, returning to the turn-of-the-century theme of American leisure that he was first drawn to with his Pen & Ink work. \nThis particular show offers many original pieces from each period of Don’s life\, with a considerable amount of prints for sale\, and two children’s books that he wrote and illustrated. \n  \nPlease join us for the opening reception on \nMarch 9th\, 3p – 5:30p at The Geo Gallery \n1545 Victory Blvd. in Glendale. \nVisit M-F\, 9a-6p \n  \n3 Seasons is on exhibit March 4 – 29\, 2024
URL:https://californiacreativearts.org/events/don-locke-3-seasons-solo-art-exhibit/
LOCATION:The Geo Gallery\, 1545 Victory Blvd\, Glendale\, CA\, 91201
CATEGORIES:Public
ATTACH;FMTTYPE=image/jpeg:https://californiacreativearts.org/wp-content/uploads/2024/02/Don-Locke-Solo-2024-e1707168477642.jpg
END:VEVENT
BEGIN:VEVENT
DTSTART;TZID=UTC:20240217T170000
DTEND;TZID=UTC:20240302T210000
DTSTAMP:20260425T105956
CREATED:20240215T020821Z
LAST-MODIFIED:20240215T020821Z
UID:3089-1708189200-1709413200@californiacreativearts.org
SUMMARY:"Say What?" Group Exhibition
DESCRIPTION:Monday – Thursday\nBy Appointment \nFriday 12-5pm \nSaturday 12-5pm (or opening nights 5-9pm) \nSunday 10-2
URL:https://californiacreativearts.org/events/say-what-group-exhibition/
LOCATION:Covet Art Gallery\, 1922-A South Coast Hwy\, Oceanside\, CA\, 92054
CATEGORIES:Public
ATTACH;FMTTYPE=image/png:https://californiacreativearts.org/wp-content/uploads/2024/02/Say-What-.png
END:VEVENT
BEGIN:VEVENT
DTSTART;TZID=UTC:20240217T110000
DTEND;TZID=UTC:20240217T180000
DTSTAMP:20260425T105956
CREATED:20240215T020004Z
LAST-MODIFIED:20240215T020004Z
UID:3085-1708167600-1708192800@californiacreativearts.org
SUMMARY:Pop-up Art Show at Tansy
DESCRIPTION:
URL:https://californiacreativearts.org/events/pop-up-art-show-at-tansy/
LOCATION:Tansy\, 2120 W. Magnolia Blvd\, Burbank\, CA\, 91506
CATEGORIES:Public
ATTACH;FMTTYPE=image/jpeg:https://californiacreativearts.org/wp-content/uploads/2024/02/image0.jpeg
END:VEVENT
BEGIN:VEVENT
DTSTART;TZID=UTC:20240202T080000
DTEND;TZID=UTC:20240222T200000
DTSTAMP:20260425T105956
CREATED:20240205T213442Z
LAST-MODIFIED:20240205T213442Z
UID:3076-1706860800-1708632000@californiacreativearts.org
SUMMARY:Matthew Cramer "Invasive Species" Solo Art Show
DESCRIPTION:Invasive Species\nBy Matthew Cramer \nMy approach to landscape is motivated by a desire to represent our human imprint on the environment. I choose subjects that are common parts of our human infrastructure. I often work from my own photographs which is a practice I learned early in my life. \nAs a kid\, my family took regular camping trips to southern Ohio or West Virginia. My dad is an avid model railroader who took pictures as reference\, documentation\, and souvenirs. We would venture into railroad yards\, and seek out large bridges spanning deep valleys\, and other train-related spots. I learned two practices from this. The first was how to find these places and sneak in. The second was the habit of carrying a camera and taking pictures of interesting oddities. This is also when I became interested in the infrastructure behind our society\, places that are often bland\, hidden\, and unnatural alterations to the landscape. \nI use photos taken at airports\, power stations\, and shipping yards\, amongst other subjects\, to create urban landscapes without people\, yet representing people’s impact on the environment. I approach these malls\, gas stations\, office buildings\, and parking garages as traditional urban landscapes\, depicted in a vacuum. I juxtapose these man-made structures with titles that evoke nature. \nAs online technology made digital mapping system and satellite imagery accessible\, I became interested in using these references to depict the landscape in a more factual way. This opened up an approach informed more by data than my own experience\, allowing me to create abstract but factual images\, focused on pattern and line. These satellite landscapes hold a voyeuristic approach\, suggesting systems of surveillance and secrecy. I studied the Yucca Flat Nuclear site in Nevada\, documenting the craters from testing and storage facilities. I explore a range of images\, from the toxic and political aspects of humanity to more residential and suburban sites. \nWhile approaching the landscape as a record of human activity\, an iconography of symbols of human consumption and activity emerges: the shipping container\, the surveillance camera\, and the media microphone\, all rearranged to mimic natural landscapes and phenomena. These images are reimagined as plants\, clouds\, glaciers\, geological structures\, or in natural patterns seen in bird formations or beehives. These altered landscapes are another approach to represent our invasive species.\nvisit https://cramer-studio.com/
URL:https://californiacreativearts.org/events/matthew-cramer-invasive-species-solo-art-show/
LOCATION:Betsy Lueke Creative Arts Center\, 1100 W. Clark Ave\, Burbank\, CA\, 91505\, United States
ATTACH;FMTTYPE=image/webp:https://californiacreativearts.org/wp-content/uploads/2024/02/matt-cramer-invasive.webp
END:VEVENT
BEGIN:VEVENT
DTSTART;TZID=UTC:20240123T110000
DTEND;TZID=UTC:20240226T210000
DTSTAMP:20260425T105956
CREATED:20240129T191953Z
LAST-MODIFIED:20240129T191953Z
UID:3048-1706007600-1708981200@californiacreativearts.org
SUMMARY:“Mini Board & Committee Show”
DESCRIPTION:CCA Board and Committee members art is on exhibit at The Colony Theatre. Grab a friend and see this eclectic show! \n  \nGallery hours coincide with performances. Please check their website for hours.
URL:https://californiacreativearts.org/events/mini-board-committee-show/
LOCATION:The Colony Theatre\, 555 N. 3rd St.\, Burbank\, CA\, 91502\, United States
CATEGORIES:Public
ATTACH;FMTTYPE=image/png:https://californiacreativearts.org/wp-content/uploads/2024/01/Board-Committee-Show.png
ORGANIZER;CN="California Creative Arts":MAILTO:cca@californiacreativearts.org
END:VEVENT
BEGIN:VEVENT
DTSTART;TZID=UTC:20240115T090000
DTEND;TZID=UTC:20240322T180000
DTSTAMP:20260425T105956
CREATED:20231223T045254Z
LAST-MODIFIED:20231223T045434Z
UID:2790-1705309200-1711130400@californiacreativearts.org
SUMMARY:"Imagine That" Art Exhibit at the Encino Terrace Gallery
DESCRIPTION:California Creative Arts members have their art on exhibit at this beautiful block-long space.
URL:https://californiacreativearts.org/events/imagine-that-art-exhibit-at-the-encino-terrace-gallery/
LOCATION:Encino Terrace Center\, 15821 Ventura Boulevard\, Ground Floor\, Encino\, CA\, 91436\, United States
CATEGORIES:Public
ATTACH;FMTTYPE=image/jpeg:https://californiacreativearts.org/wp-content/uploads/2023/05/IMG_0023-e1726424537650.jpg
ORGANIZER;CN="California Creative Arts":MAILTO:cca@californiacreativearts.org
END:VEVENT
BEGIN:VEVENT
DTSTART;TZID=UTC:20240105T090000
DTEND;TZID=UTC:20240125T210000
DTSTAMP:20260425T105956
CREATED:20230905T020014Z
LAST-MODIFIED:20231017T221411Z
UID:2270-1704445200-1706216400@californiacreativearts.org
SUMMARY:“Rock. Paper. Scissors. Art.” Art Exhibit at The Betsy Lueke Creative Arts Center
DESCRIPTION:California Creative Arts members have their art on exhibit in this beautiful gallery. Opening reception is January 5\, 7p-9p Refreshments served. \n  \nHours\nMonday – Thursday\n9:00 a.m. – 9:00 p.m. \nFriday\n9:00 a.m. – 7:00 p.m. \nSaturday\n9:00 a.m. – 1:00 p.m.
URL:https://californiacreativearts.org/events/rock-paper-scissors-art-art-exhibit-at-the-betsy-lueke-creative-arts-center/
LOCATION:Betsy Lueke Creative Arts Center\, 1100 W. Clark Ave\, Burbank\, CA\, 91505\, United States
CATEGORIES:Public
ATTACH;FMTTYPE=image/png:https://californiacreativearts.org/wp-content/uploads/2023/09/RPSA-flyer-e1697580782969.png
ORGANIZER;CN="California Creative Arts":MAILTO:cca@californiacreativearts.org
END:VEVENT
BEGIN:VEVENT
DTSTART;TZID=UTC:20231128T180000
DTEND;TZID=UTC:20231128T203000
DTSTAMP:20260425T105956
CREATED:20231118T222225Z
LAST-MODIFIED:20231118T222225Z
UID:2694-1701194400-1701203400@californiacreativearts.org
SUMMARY:A Night of Dance: Youth Empowerment
DESCRIPTION:Come see the art and mingle with the artists behind the “Together” art exhibit at The Colony Theatre. \nThis evening is a chance to support the Fostering Dreams Project while gathering together for an art reception. \nAll are welcome! Bring your friends and family to see the exhibit and the performance of “A Night of Dance: Youth Empowerment.” \nThe reception is from 6p – 7p\, which includes a Silent Auction. All exhibiting artists are invited for a photo at 6:30 in the art gallery. \nTo purchase tickets to the performance\, “A Night of Dance: Youth Empowerment” click HERE.
URL:https://californiacreativearts.org/events/a-night-of-dance-youth-empowerment/
LOCATION:The Colony Theatre\, 555 N. 3rd St.\, Burbank\, CA\, 91502\, United States
CATEGORIES:Public
ATTACH;FMTTYPE=image/png:https://californiacreativearts.org/wp-content/uploads/2023/11/Together-28th-Reception.png
END:VEVENT
BEGIN:VEVENT
DTSTART;TZID=UTC:20231118T160000
DTEND;TZID=UTC:20231118T210000
DTSTAMP:20260425T105956
CREATED:20230910T032726Z
LAST-MODIFIED:20231118T184539Z
UID:2299-1700323200-1700341200@californiacreativearts.org
SUMMARY:Fall Festival - cancelled
DESCRIPTION:Fall Festival in Burbank \nJoin us for The Nightmare Before Christmas 30th Anniversary movie showing; live concert performances from Angela O’Neill and the Outrageous8\, Guitar Ninjas All-Stars\, and Vahe and Christine Hovhan; food trucks\, family fun\, and more! \nArtists and Artisans will also be there with free activities for kids! \nJohnny Carson Park\n400 Bob Hope Drive\nBurbank\, CA 91505 United States
URL:https://californiacreativearts.org/events/fall-festival/
LOCATION:Johnny Carson Park\, 400 Bob Hope Drive\, Burbank\, CA\, 91505\, United States
CATEGORIES:Public
ATTACH;FMTTYPE=image/jpeg:https://californiacreativearts.org/wp-content/uploads/2023/09/burbank-fall-festival-2023_event-cards.jpg
END:VEVENT
BEGIN:VEVENT
DTSTART;TZID=UTC:20231117T170000
DTEND;TZID=UTC:20231117T210000
DTSTAMP:20260425T105956
CREATED:20231017T213351Z
LAST-MODIFIED:20231017T213351Z
UID:2555-1700240400-1700254800@californiacreativearts.org
SUMMARY:Holiday in the Park
DESCRIPTION:ON MAGNOLIA BLVD FROM HOLLYWOOD WAY TO FLORENCE ST\, Holiday in the Park is Magnolia Park’s way to kick off the holiday season in Burbank with over 100 exhibitors joining in on the celebration that stretches 9 blocks and 3 parking lots! \nCCA Members\, along with BAA will be set-up in the Blast From The Past Parking Lot. Come visit & shop for art and unique artisan gifts!
URL:https://californiacreativearts.org/events/holiday-in-the-park/
LOCATION:Blast from the Past\, 3117 Magnolia Blvd\, Burbank\, CA\, 91505\, United States
CATEGORIES:Public
ATTACH;FMTTYPE=image/png:https://californiacreativearts.org/wp-content/uploads/2023/10/Holiday-in-the-Park.png
END:VEVENT
BEGIN:VEVENT
DTSTART;TZID=UTC:20231113T110000
DTEND;TZID=UTC:20231231T210000
DTSTAMP:20260425T105956
CREATED:20230905T013641Z
LAST-MODIFIED:20231028T203648Z
UID:2262-1699873200-1704056400@californiacreativearts.org
SUMMARY:“Together” Art Exhibit at The Colony Theatre
DESCRIPTION:California Creative Arts members will have their art on exhibit through the holiday season along with multiple events and performances by a variety of groups in the theatre during the run of this exhibit. \nGallery hours coincide with show times. Check website for schedule: ColonyTheatre.org \nThursdays 8:00 PM\nFridays 8:00 PM\nSaturdays 2:00 & 8:00 PM\nSundays 2:00 & 7:00 PM
URL:https://californiacreativearts.org/events/hallelujah-for-chutzpah-art-exhibit-at-the-colony-theatre/
CATEGORIES:Public
ATTACH;FMTTYPE=image/png:https://californiacreativearts.org/wp-content/uploads/2023/09/Together-Share.png
END:VEVENT
BEGIN:VEVENT
DTSTART;TZID=UTC:20231014T110000
DTEND;TZID=UTC:20231014T160000
DTSTAMP:20260425T105956
CREATED:20230905T011821Z
LAST-MODIFIED:20230913T022145Z
UID:2258-1697281200-1697299200@californiacreativearts.org
SUMMARY:Lucky Vintage Flea and Art Market
DESCRIPTION:The Lucky Flea Girls\, Tiffany and Evie\, are partnering up with Gain Credit Union\, California Creative Arts\, and Gorilla Art! Proceeds this year from vendor fees will be going to NAF.\n\nNAF is a nonprofit organization that brings business and community leaders to the students in schools. Their goal is to transform and enhance students’ school experiences. For more info about NAF check out their website.
URL:https://californiacreativearts.org/events/lucky-vintage-flea-and-art-market/
LOCATION:Gain Federal Credit Union\, 1800 W. Magnolia Blvd.\, Burbank\, CA\, United States
CATEGORIES:Public
ATTACH;FMTTYPE=image/png:https://californiacreativearts.org/wp-content/uploads/2023/09/VintageFleaArtMarket-Flyer-small.png
END:VEVENT
BEGIN:VEVENT
DTSTART;TZID=UTC:20230918T090000
DTEND;TZID=UTC:20240112T180000
DTSTAMP:20260425T105956
CREATED:20230905T014843Z
LAST-MODIFIED:20230905T015001Z
UID:2266-1695027600-1705082400@californiacreativearts.org
SUMMARY:“Reflections and Projections” Art Exhibit at the Encino Terrace Gallery
DESCRIPTION:Art that celebrates the past and anticipates the future. \nCalifornia Creative Arts members have their art on exhibit at this beautiful block-long space.
URL:https://californiacreativearts.org/events/reflections-and-projections-art-exhibit-at-the-encino-terrace-gallerythis-is-not-your-normal-gallery-space-exhibit-your-art-in-this-block-long-exhibit-space-on-ventura-blvd-in-the-h/
LOCATION:Encino Terrace Center\, 15821 Ventura Boulevard\, Ground Floor\, Encino\, CA\, 91436\, United States
CATEGORIES:Public
ATTACH;FMTTYPE=image/png:https://californiacreativearts.org/wp-content/uploads/2023/09/Reflections-exh-web.png
ORGANIZER;CN="California Creative Arts":MAILTO:cca@californiacreativearts.org
END:VEVENT
BEGIN:VEVENT
DTSTART;TZID=UTC:20230805T090000
DTEND;TZID=UTC:20230825T170000
DTSTAMP:20260425T105956
CREATED:20230616T204801Z
LAST-MODIFIED:20230811T003241Z
UID:2069-1691226000-1692982800@californiacreativearts.org
SUMMARY:The "It Figures!" Art Exhibit at Gain Federal Credit Union
DESCRIPTION:We all know the value of beautiful art and how much it can enrich our lives. \n  \nThe “It Figures!” Art Exhibit at Gain Federal Credit Union\nExhibits August 5th – August 25th \n1800 W. Magnolia Blvd.\nBurbank\, CA 91506 \nOpen\, Monday – Thursday: 9a-5p\nFriday: 9a-6p \nClosed Sat/Sun
URL:https://californiacreativearts.org/events/the-it-figures-art-exhibit-at-gain-federal-credit-union/
LOCATION:Gain Federal Credit Union\, 1800 W. Magnolia Blvd.\, Burbank\, CA\, United States
CATEGORIES:Public
ATTACH;FMTTYPE=image/jpeg:https://californiacreativearts.org/wp-content/uploads/2023/06/It-Figures-Web.jpg
ORGANIZER;CN="California Creative Arts":MAILTO:cca@californiacreativearts.org
END:VEVENT
BEGIN:VEVENT
DTSTART;TZID=UTC:20230619T090000
DTEND;TZID=UTC:20230916T180000
DTSTAMP:20260425T105956
CREATED:20230531T204716Z
LAST-MODIFIED:20230905T015104Z
UID:2016-1687165200-1694887200@californiacreativearts.org
SUMMARY:The “Meditation and Chemistry” Art Exhibit at Encino Terrace Gallery
DESCRIPTION:When elements combine\, great things can happen. Filling a space with a collection of art can give you a place to take a moment to slow down and enjoy the view. Join California Creative Arts in making some “good chemistry” at the Encino Terrace Gallery this summer.
URL:https://californiacreativearts.org/events/art-exhibit/
CATEGORIES:Public
ATTACH;FMTTYPE=image/jpeg:https://californiacreativearts.org/wp-content/uploads/2023/06/Meditation-website.jpg
ORGANIZER;CN="California Creative Arts":MAILTO:cca@californiacreativearts.org
END:VEVENT
BEGIN:VEVENT
DTSTART;TZID=UTC:20230506T110000
DTEND;TZID=UTC:20230506T170000
DTSTAMP:20260425T105956
CREATED:20230418T022426Z
LAST-MODIFIED:20230811T002746Z
UID:1916-1683370800-1683392400@californiacreativearts.org
SUMMARY:Second Annual Elevate Burbank Multicultural Arts Festival
DESCRIPTION:California Creative Arts members will have a large presence at this amazing event! \nThe Second Annual Elevate Burbank Multicultural Arts Festival will feature local performers\, artists\, and musicians\, including Alexis Rose R&B\, Cleary Irish Dancers\, Guitar Ninjas\, NashBerry Family Band\, Shotty\, and much more!\nThe festival will also include an art show\, food trucks\, a kids’ area\, and select local vendors and nonprofit organizations sharing resources for the community.
URL:https://californiacreativearts.org/events/second-annual-elevate-burbank-multicultural-arts-festival/
CATEGORIES:Public
ATTACH;FMTTYPE=image/jpeg:https://californiacreativearts.org/wp-content/uploads/2023/04/EB-Share.jpg
END:VEVENT
BEGIN:VEVENT
DTSTART;TZID=UTC:20230429T100000
DTEND;TZID=UTC:20230430T170000
DTSTAMP:20260425T105956
CREATED:20230112T190202Z
LAST-MODIFIED:20230811T002729Z
UID:1458-1682762400-1682874000@californiacreativearts.org
SUMMARY:Jackalope Indie Artisan Fair
DESCRIPTION:A unique\, curated shopping experience featuring the top trendsetting makers & designers of local goods. \nFree Admission & Over 150 Local Artisans \nThe mission of Jackalope Arts is to create a shopping experience with the highest quality\, locally handcrafted goods.  We strive to support local artisans who devote their lives to their creations. \nThe Jackalope Arts Experience: More than just a chance to shop\, Jackalope Arts offers an opportunity for the community to meet the makers.
URL:https://californiacreativearts.org/events/jackalope-indie-artisan-fair/
LOCATION:Central Park\, 275 S Raymond Ave\, Pasadena\, CA\, 91105
CATEGORIES:Public
ATTACH;FMTTYPE=image/jpeg:https://californiacreativearts.org/wp-content/uploads/2023/01/jackalopenew2017logo.jpeg
ORGANIZER;CN="California Creative Arts":MAILTO:cca@californiacreativearts.org
END:VEVENT
BEGIN:VEVENT
DTSTART;TZID=UTC:20230403T090000
DTEND;TZID=UTC:20230616T180000
DTSTAMP:20260425T105956
CREATED:20220909T165927Z
LAST-MODIFIED:20230404T012509Z
UID:722-1680512400-1686938400@californiacreativearts.org
SUMMARY:The “ARTwork” Exhibit at Encino Terrace Gallery
DESCRIPTION:The “ARTwork” Exhibit at Encino Terrace Gallery\n15821 Ventura Blvd.\nEncino\, CA 91436 \nExhibits April 3\, 2023 – June 16\, 2023\nOpen M-F 9am-6pm
URL:https://californiacreativearts.org/events/exhibit/
LOCATION:Encino Terrace Center\, 15821 Ventura Boulevard\, Ground Floor\, Encino\, CA\, 91436\, United States
CATEGORIES:Public
ATTACH;FMTTYPE=image/jpeg:https://californiacreativearts.org/wp-content/uploads/2023/04/ARTwork-flyer-e1683228184522.jpg
END:VEVENT
BEGIN:VEVENT
DTSTART;TZID=UTC:20230325T170000
DTEND;TZID=UTC:20230325T210000
DTSTAMP:20260425T105956
CREATED:20230319T210423Z
LAST-MODIFIED:20230811T002803Z
UID:1768-1679763600-1679778000@californiacreativearts.org
SUMMARY:The 4th Annual Pop-Up Art Show
DESCRIPTION:This incredible show is in collaboration with Mycotoo and Art Share L.A. and will feature 100+ original artworks from renowned artists in themed entertainment that includes Disneyland\, Universal Studios\, Warner Brothers and more! \nOn top of this\, we will also host a VIP Hour starting at 5:00 PM that features a special performance by artist V.C.R and complimentary cocktails from Batch 22\, as well as free pancake art and appetizers. \nBUY TICKETS\nAll proceeds from ticket sales will go to Arts for LA to continue advocating for artists in all sectors within Greater Los Angeles. \nArts for LA is the leading voice for arts advocacy in Greater Los Angeles\, the only cross-discipline\, cross-sector advocate for the arts in Los Angeles County.
URL:https://californiacreativearts.org/events/the-4th-annual-pop-up-art-show/
LOCATION:Art Share L.A.\, 801 East 4th Place\, Los Angeles\, CA\, 90013
CATEGORIES:Public
ATTACH;FMTTYPE=image/png:https://californiacreativearts.org/wp-content/uploads/2023/03/artsla-event.png
END:VEVENT
END:VCALENDAR