BEGIN:VCALENDAR
VERSION:2.0
PRODID:-//California Creative Arts, Inc - ECPv6.15.20//NONSGML v1.0//EN
CALSCALE:GREGORIAN
METHOD:PUBLISH
X-WR-CALNAME:California Creative Arts, Inc
X-ORIGINAL-URL:https://californiacreativearts.org
X-WR-CALDESC:Events for California Creative Arts, Inc
REFRESH-INTERVAL;VALUE=DURATION:PT1H
X-Robots-Tag:noindex
X-PUBLISHED-TTL:PT1H
BEGIN:VTIMEZONE
TZID:UTC
BEGIN:STANDARD
TZOFFSETFROM:+0000
TZOFFSETTO:+0000
TZNAME:UTC
DTSTART:20210101T000000
END:STANDARD
END:VTIMEZONE
BEGIN:VEVENT
DTSTART;TZID=UTC:20230918T090000
DTEND;TZID=UTC:20240112T180000
DTSTAMP:20260425T140034
CREATED:20230905T014843Z
LAST-MODIFIED:20230905T015001Z
UID:2266-1695027600-1705082400@californiacreativearts.org
SUMMARY:“Reflections and Projections” Art Exhibit at the Encino Terrace Gallery
DESCRIPTION:Art that celebrates the past and anticipates the future. \nCalifornia Creative Arts members have their art on exhibit at this beautiful block-long space.
URL:https://californiacreativearts.org/events/reflections-and-projections-art-exhibit-at-the-encino-terrace-gallerythis-is-not-your-normal-gallery-space-exhibit-your-art-in-this-block-long-exhibit-space-on-ventura-blvd-in-the-h/
LOCATION:Encino Terrace Center\, 15821 Ventura Boulevard\, Ground Floor\, Encino\, CA\, 91436\, United States
CATEGORIES:Public
ATTACH;FMTTYPE=image/png:https://californiacreativearts.org/wp-content/uploads/2023/09/Reflections-exh-web.png
ORGANIZER;CN="California Creative Arts":MAILTO:cca@californiacreativearts.org
END:VEVENT
BEGIN:VEVENT
DTSTART;TZID=UTC:20230805T090000
DTEND;TZID=UTC:20230825T170000
DTSTAMP:20260425T140034
CREATED:20230616T204801Z
LAST-MODIFIED:20230811T003241Z
UID:2069-1691226000-1692982800@californiacreativearts.org
SUMMARY:The "It Figures!" Art Exhibit at Gain Federal Credit Union
DESCRIPTION:We all know the value of beautiful art and how much it can enrich our lives. \n  \nThe “It Figures!” Art Exhibit at Gain Federal Credit Union\nExhibits August 5th – August 25th \n1800 W. Magnolia Blvd.\nBurbank\, CA 91506 \nOpen\, Monday – Thursday: 9a-5p\nFriday: 9a-6p \nClosed Sat/Sun
URL:https://californiacreativearts.org/events/the-it-figures-art-exhibit-at-gain-federal-credit-union/
LOCATION:Gain Federal Credit Union\, 1800 W. Magnolia Blvd.\, Burbank\, CA\, United States
CATEGORIES:Public
ATTACH;FMTTYPE=image/jpeg:https://californiacreativearts.org/wp-content/uploads/2023/06/It-Figures-Web.jpg
ORGANIZER;CN="California Creative Arts":MAILTO:cca@californiacreativearts.org
END:VEVENT
BEGIN:VEVENT
DTSTART;TZID=UTC:20230619T090000
DTEND;TZID=UTC:20230916T180000
DTSTAMP:20260425T140034
CREATED:20230531T204716Z
LAST-MODIFIED:20230905T015104Z
UID:2016-1687165200-1694887200@californiacreativearts.org
SUMMARY:The “Meditation and Chemistry” Art Exhibit at Encino Terrace Gallery
DESCRIPTION:When elements combine\, great things can happen. Filling a space with a collection of art can give you a place to take a moment to slow down and enjoy the view. Join California Creative Arts in making some “good chemistry” at the Encino Terrace Gallery this summer.
URL:https://californiacreativearts.org/events/art-exhibit/
LOCATION:CA
CATEGORIES:Public
ATTACH;FMTTYPE=image/jpeg:https://californiacreativearts.org/wp-content/uploads/2023/06/Meditation-website.jpg
ORGANIZER;CN="California Creative Arts":MAILTO:cca@californiacreativearts.org
END:VEVENT
BEGIN:VEVENT
DTSTART;TZID=UTC:20230506T110000
DTEND;TZID=UTC:20230506T170000
DTSTAMP:20260425T140034
CREATED:20230418T022426Z
LAST-MODIFIED:20230811T002746Z
UID:1916-1683370800-1683392400@californiacreativearts.org
SUMMARY:Second Annual Elevate Burbank Multicultural Arts Festival
DESCRIPTION:California Creative Arts members will have a large presence at this amazing event! \nThe Second Annual Elevate Burbank Multicultural Arts Festival will feature local performers\, artists\, and musicians\, including Alexis Rose R&B\, Cleary Irish Dancers\, Guitar Ninjas\, NashBerry Family Band\, Shotty\, and much more!\nThe festival will also include an art show\, food trucks\, a kids’ area\, and select local vendors and nonprofit organizations sharing resources for the community.
URL:https://californiacreativearts.org/events/second-annual-elevate-burbank-multicultural-arts-festival/
LOCATION:CA
CATEGORIES:Public
ATTACH;FMTTYPE=image/jpeg:https://californiacreativearts.org/wp-content/uploads/2023/04/EB-Share.jpg
END:VEVENT
BEGIN:VEVENT
DTSTART;TZID=UTC:20230429T100000
DTEND;TZID=UTC:20230430T170000
DTSTAMP:20260425T140034
CREATED:20230112T190202Z
LAST-MODIFIED:20230811T002729Z
UID:1458-1682762400-1682874000@californiacreativearts.org
SUMMARY:Jackalope Indie Artisan Fair
DESCRIPTION:A unique\, curated shopping experience featuring the top trendsetting makers & designers of local goods. \nFree Admission & Over 150 Local Artisans \nThe mission of Jackalope Arts is to create a shopping experience with the highest quality\, locally handcrafted goods.  We strive to support local artisans who devote their lives to their creations. \nThe Jackalope Arts Experience: More than just a chance to shop\, Jackalope Arts offers an opportunity for the community to meet the makers.
URL:https://californiacreativearts.org/events/jackalope-indie-artisan-fair/
LOCATION:Central Park\, 275 S Raymond Ave\, Pasadena\, CA\, 91105
CATEGORIES:Public
ATTACH;FMTTYPE=image/jpeg:https://californiacreativearts.org/wp-content/uploads/2023/01/jackalopenew2017logo.jpeg
ORGANIZER;CN="California Creative Arts":MAILTO:cca@californiacreativearts.org
END:VEVENT
BEGIN:VEVENT
DTSTART;TZID=UTC:20230403T090000
DTEND;TZID=UTC:20230616T180000
DTSTAMP:20260425T140034
CREATED:20220909T165927Z
LAST-MODIFIED:20230404T012509Z
UID:722-1680512400-1686938400@californiacreativearts.org
SUMMARY:The “ARTwork” Exhibit at Encino Terrace Gallery
DESCRIPTION:The “ARTwork” Exhibit at Encino Terrace Gallery\n15821 Ventura Blvd.\nEncino\, CA 91436 \nExhibits April 3\, 2023 – June 16\, 2023\nOpen M-F 9am-6pm
URL:https://californiacreativearts.org/events/exhibit/
LOCATION:Encino Terrace Center\, 15821 Ventura Boulevard\, Ground Floor\, Encino\, CA\, 91436\, United States
CATEGORIES:Public
ATTACH;FMTTYPE=image/jpeg:https://californiacreativearts.org/wp-content/uploads/2023/04/ARTwork-flyer-e1683228184522.jpg
END:VEVENT
BEGIN:VEVENT
DTSTART;TZID=UTC:20230325T170000
DTEND;TZID=UTC:20230325T210000
DTSTAMP:20260425T140034
CREATED:20230319T210423Z
LAST-MODIFIED:20230811T002803Z
UID:1768-1679763600-1679778000@californiacreativearts.org
SUMMARY:The 4th Annual Pop-Up Art Show
DESCRIPTION:This incredible show is in collaboration with Mycotoo and Art Share L.A. and will feature 100+ original artworks from renowned artists in themed entertainment that includes Disneyland\, Universal Studios\, Warner Brothers and more! \nOn top of this\, we will also host a VIP Hour starting at 5:00 PM that features a special performance by artist V.C.R and complimentary cocktails from Batch 22\, as well as free pancake art and appetizers. \nBUY TICKETS\nAll proceeds from ticket sales will go to Arts for LA to continue advocating for artists in all sectors within Greater Los Angeles. \nArts for LA is the leading voice for arts advocacy in Greater Los Angeles\, the only cross-discipline\, cross-sector advocate for the arts in Los Angeles County.
URL:https://californiacreativearts.org/events/the-4th-annual-pop-up-art-show/
LOCATION:Art Share L.A.\, 801 East 4th Place\, Los Angeles\, CA\, 90013
CATEGORIES:Public
ATTACH;FMTTYPE=image/png:https://californiacreativearts.org/wp-content/uploads/2023/03/artsla-event.png
END:VEVENT
BEGIN:VEVENT
DTSTART;TZID=UTC:20230218T190000
DTEND;TZID=UTC:20230326T210000
DTSTAMP:20260425T140034
CREATED:20230110T200513Z
LAST-MODIFIED:20230214T221401Z
UID:1440-1676746800-1679864400@californiacreativearts.org
SUMMARY:"Unrequited Love" at The Gallery in The Colony Theatre
DESCRIPTION:OPENING NIGHT RECEPTION February 18\, 10:00pm.\n\nThis is a California Creative Arts member exhibit at The Gallery in The Colony Theatre\, adjacent to the Burbank Town Center.\nThe Gallery is open during shows. See website for schedule:  colonytheatre.org
URL:https://californiacreativearts.org/events/unrequited-love-at-the-gallery-in-the-colony-theatre/
LOCATION:The Colony Theatre\, 555 N. 3rd St.\, Burbank\, CA\, 91502\, United States
CATEGORIES:Public
ATTACH;FMTTYPE=image/jpeg:https://californiacreativearts.org/wp-content/uploads/2023/01/Unrequited-Love-2.jpg
ORGANIZER;CN="California Creative Arts":MAILTO:cca@californiacreativearts.org
END:VEVENT
BEGIN:VEVENT
DTSTART;TZID=UTC:20221203T120000
DTEND;TZID=UTC:20221203T170000
DTSTAMP:20260425T140034
CREATED:20221017T015243Z
LAST-MODIFIED:20221120T234501Z
UID:904-1670068800-1670086800@californiacreativearts.org
SUMMARY:Toluca Lake Holiday Open House
DESCRIPTION:Saturday\, December 3rd\, 2022\n12n-5:00p\nOn Riverside Drive in Toluca Lake! \nCalifornia Creative Arts members will be at the corner of Talofa Ave. & Riverside Dr.\, offering hand-crafted artwork\nand unique gifts for sale. \nCome out and say hello\, support and browse – you may see a few needed gifts for family\, friends\, or you! \nAll the shops will be open and there will be special events as well!
URL:https://californiacreativearts.org/events/toluca-lake-holiday-open-house/
LOCATION:CA
CATEGORIES:Public
END:VEVENT
BEGIN:VEVENT
DTSTART;TZID=UTC:20221130T190000
DTEND;TZID=UTC:20221130T210000
DTSTAMP:20260425T140034
CREATED:20221103T200142Z
LAST-MODIFIED:20230110T210719Z
UID:1066-1669834800-1669842000@californiacreativearts.org
SUMMARY:The Gallery at The Colony Theatre presents “Unscripted; Art that makes it all up as it goes.”
DESCRIPTION:The Gallery at The Colony Theatre presents:\n\n\n“Unscripted; Art that makes it all up as it goes.”\n\n\n555 N. 3rd St.\n\n\nBurbank\, CA 91502\n\n\n\n\nNovember 30th is the Artists Mixer hosted by Burbank Cultural Arts Commission 6PM-9PM with live performances of local art groups\, and refreshments. Pantry donations are being accepted to benefit the Burbank Temporary Aid Center.\n\n\n\n\nThe Gallery is open during shows through Dec 18th\, 2022\nSee website for schedule:  colonytheatre.org
URL:https://californiacreativearts.org/events/the-gallery-at-the-colony-theatre-presents-unscripted-art-that-makes-it-all-up-as-it-goes/
LOCATION:The Colony Theatre\, 555 N. 3rd St.\, Burbank\, CA\, 91502\, United States
CATEGORIES:Public
ATTACH;FMTTYPE=image/jpeg:https://californiacreativearts.org/wp-content/uploads/2022/11/CCA-ColonyTheatre.jpg
END:VEVENT
BEGIN:VEVENT
DTSTART;TZID=UTC:20221118T170000
DTEND;TZID=UTC:20221118T210000
DTSTAMP:20260425T140034
CREATED:20221026T183657Z
LAST-MODIFIED:20221112T212511Z
UID:963-1668790800-1668805200@californiacreativearts.org
SUMMARY:Blast From The Past Art Walk @ Magnolia Park Holiday in the Park
DESCRIPTION:Members of California Creative Arts will be selling their wares at the Blast From The Past Art Walk @  Magnolia Holiday in the Park. There will be everything from fine art to crafts and books. Bring your gift list! \nThis is a HUGE event! The street is closed to traffic and it is full of fun and festivities. \nHope to see you there!
URL:https://californiacreativearts.org/events/blast-from-the-past-art-walk-holiday-in-the-park/
LOCATION:Blast from the Past\, 3117 Magnolia Blvd\, Burbank\, CA\, 91505\, United States
CATEGORIES:Public
ATTACH;FMTTYPE=image/jpeg:https://californiacreativearts.org/wp-content/uploads/2022/10/Holiday-in-the-park-art-walk-to-promote.jpg
END:VEVENT
BEGIN:VEVENT
DTSTART;TZID=UTC:20221029T120000
DTEND;TZID=UTC:20221029T173000
DTSTAMP:20260425T140035
CREATED:20220927T193504Z
LAST-MODIFIED:20221026T184319Z
UID:833-1667044800-1667064600@californiacreativearts.org
SUMMARY:Toluca Lake Harvest Festival
DESCRIPTION:Last year we had over 30 artists fill the streets along with shops and restaurants with doors wide open on Riverside Drive. It was fun and festive! \nYou must be a member to participate. There are no fees or percentage of sales taken. \nContact us if you’d like to participate.
URL:https://californiacreativearts.org/events/toluca-lake-harvest-festival/
LOCATION:CA
CATEGORIES:Public
ATTACH;FMTTYPE=image/jpeg:https://californiacreativearts.org/wp-content/uploads/2022/09/TL-Harvest.jpeg
END:VEVENT
BEGIN:VEVENT
DTSTART;TZID=UTC:20221022T110000
DTEND;TZID=UTC:20221022T170000
DTSTAMP:20260425T140035
CREATED:20220804T183701Z
LAST-MODIFIED:20220927T200614Z
UID:649-1666436400-1666458000@californiacreativearts.org
SUMMARY:Vintage Flea and Art Market
DESCRIPTION:FOOD – – – MUSIC – – – FUN! \nCome by and support our members and learn more about our organization. \n100% of vendor fees will be donated to Burbank school art programs. \nYou must be a member to participate. There are no fees or percentage of sales taken.
URL:https://californiacreativearts.org/events/vintage-flea-and-art-market/
LOCATION:Gain Federal Credit Union\, 1800 W. Magnolia Blvd.\, Burbank\, CA\, United States
CATEGORIES:Public
ATTACH;FMTTYPE=image/png:https://californiacreativearts.org/wp-content/uploads/2022/08/lucky-vintage-flea.png
END:VEVENT
END:VCALENDAR