BEGIN:VCALENDAR
VERSION:2.0
PRODID:-//California Creative Arts, Inc - ECPv6.15.20//NONSGML v1.0//EN
CALSCALE:GREGORIAN
METHOD:PUBLISH
X-ORIGINAL-URL:https://californiacreativearts.org
X-WR-CALDESC:Events for California Creative Arts, Inc
REFRESH-INTERVAL;VALUE=DURATION:PT1H
X-Robots-Tag:noindex
X-PUBLISHED-TTL:PT1H
BEGIN:VTIMEZONE
TZID:UTC
BEGIN:STANDARD
TZOFFSETFROM:+0000
TZOFFSETTO:+0000
TZNAME:UTC
DTSTART:20240101T000000
END:STANDARD
END:VTIMEZONE
BEGIN:VEVENT
DTSTART;TZID=UTC:20250713T080000
DTEND;TZID=UTC:20250908T170000
DTSTAMP:20260425T040325
CREATED:20250907T191351Z
LAST-MODIFIED:20250907T191351Z
UID:4997-1752393600-1757350800@californiacreativearts.org
SUMMARY:“Mini Board & Committee Art Exhibit” at the Colony Theatre
DESCRIPTION:
URL:https://californiacreativearts.org/events/mini-board-committee-art-exhibit-at-the-colony-theatre/
LOCATION:The Colony Theatre\, 555 N. 3rd St.\, Burbank\, CA\, 91502\, United States
CATEGORIES:Public
ATTACH;FMTTYPE=image/png:https://californiacreativearts.org/wp-content/uploads/2025/09/SM-Colony-BandC1.png
ORGANIZER;CN="California Creative Arts":MAILTO:cca@californiacreativearts.org
END:VEVENT
BEGIN:VEVENT
DTSTART;TZID=UTC:20250722T080000
DTEND;TZID=UTC:20250922T190000
DTSTAMP:20260425T040325
CREATED:20250802T221117Z
LAST-MODIFIED:20250802T221232Z
UID:4701-1753171200-1758567600@californiacreativearts.org
SUMMARY:“Some Like It Hot” at California Creative Arts Pocket Gallery at The Joselyn Center
DESCRIPTION:Introducing the California Creative Arts Pocket Gallery at The Joselyn Center in Burbank.\nThe gallery is located in the bustling lobby of the Joslyn Center\, right by the parking lot entrance and across from the registration desk – a space that hosts dances\, concerts\, classes\, and more.
URL:https://californiacreativearts.org/events/some-like-it-hot-at-california-creative-arts-pocket-gallery-at-the-joselyn-center/
LOCATION:Joslyn Center\, 1301 W. Olive\, Burbank\, CA\, 91506\, United States
CATEGORIES:Public
ATTACH;FMTTYPE=image/png:https://californiacreativearts.org/wp-content/uploads/2025/07/SM-SomeLikeItHot.png
ORGANIZER;CN="California Creative Arts":MAILTO:cca@californiacreativearts.org
END:VEVENT
BEGIN:VEVENT
DTSTART;TZID=UTC:20250802T000000
DTEND;TZID=UTC:20250901T233000
DTSTAMP:20260425T040325
CREATED:20250802T220000Z
LAST-MODIFIED:20250914T171214Z
UID:4693-1754092800-1756769400@californiacreativearts.org
SUMMARY:Call for Art: “Trans/formation” at The Colony Theatre Gallery
DESCRIPTION:Have your art seen by hundreds of theatre goers in the heart of Burbank! \nCoincides with the first show of the Fall season at The Colony Theatre\, produced by 8TPS – INVENTING/INVITING – on September 12 & 13\, continuing with shows through October. \nClick HERE for details.
URL:https://californiacreativearts.org/events/call-for-art-trans-formation-at-the-colony-theatre-gallery/
LOCATION:The Colony Theatre\, 555 N. 3rd St.\, Burbank\, CA\, 91502\, United States
CATEGORIES:Public
ATTACH;FMTTYPE=image/png:https://californiacreativearts.org/wp-content/uploads/2025/09/SM-Transformation.png
ORGANIZER;CN="California Creative Arts":MAILTO:cca@californiacreativearts.org
END:VEVENT
BEGIN:VEVENT
DTSTART;TZID=UTC:20250804T080000
DTEND;TZID=UTC:20251006T170000
DTSTAMP:20260425T040325
CREATED:20250907T191026Z
LAST-MODIFIED:20250907T191026Z
UID:4995-1754294400-1759770000@californiacreativearts.org
SUMMARY:“Mini Board & Committee Art Exhibit” at the CCA Gallery Wall in the Salit Conservatory
DESCRIPTION:Introducing the California Creative Arts Gallery Wall at The Salit Conservatory\n  \nExplore what the Salit Conservatory has to offer\, and check out the new gallery wall! \nThe gallery is located in the main ballroom – a space that hosts concerts and classes. \n  \nOpen during business hours. Please check their website: https://www.salitfoundation.org/
URL:https://californiacreativearts.org/events/mini-board-committee-art-exhibit-at-the-cca-gallery-wall-in-the-salit-conservatory/
LOCATION:Salit Conservatory\, 1001 West Riverside Drive\, Burbank\, CA\, 91506\, United States
CATEGORIES:Public
ATTACH;FMTTYPE=image/png:https://californiacreativearts.org/wp-content/uploads/2025/09/SM-Salit-BandC.png
ORGANIZER;CN="California Creative Arts":MAILTO:cca@californiacreativearts.org
END:VEVENT
BEGIN:VEVENT
DTSTART;TZID=UTC:20250816T090000
DTEND;TZID=UTC:20250912T170000
DTSTAMP:20260425T040325
CREATED:20250809T144834Z
LAST-MODIFIED:20250809T144834Z
UID:4750-1755334800-1757696400@californiacreativearts.org
SUMMARY:“Bill & Penny’s Excellent Adventure” Art Exhibit at Gain Federal Credit Union
DESCRIPTION:This modern space includes their teller area along with their lounge atrium area. Art will be displayed on wire grid panels placed throughout the area for all of their clients and public to enjoy during business hours. \nOpening reception\, Saturday\, August 16\, 5:30p-8p hosted by Gain Federal Credit Union. Food\, music and fun!
URL:https://californiacreativearts.org/events/bill-pennys-excellent-adventure-art-exhibit-at-gain-federal-credit-union/
LOCATION:Gain Federal Credit Union\, 1800 W. Magnolia Blvd.\, Burbank\, CA\, United States
CATEGORIES:Public
ATTACH;FMTTYPE=image/png:https://californiacreativearts.org/wp-content/uploads/2025/08/SM-Bill-Penny.png
ORGANIZER;CN="California Creative Arts":MAILTO:cca@californiacreativearts.org
END:VEVENT
BEGIN:VEVENT
DTSTART;TZID=UTC:20250909T110000
DTEND;TZID=UTC:20251103T210000
DTSTAMP:20260425T040325
CREATED:20250824T174125Z
LAST-MODIFIED:20250824T174144Z
UID:4779-1757415600-1762203600@californiacreativearts.org
SUMMARY:“Trans/formation” Art Exhibit at the Colony Theatre
DESCRIPTION:Grab a friend\, watch a show or just mosey on over to see this fabulous exhibit. \nOpen during showtimes. \nPlease check The Colony Theatre for times.
URL:https://californiacreativearts.org/events/trans-formation-art-exhibit-at-the-colony-theatre/
LOCATION:The Colony Theatre\, 555 N. 3rd St.\, Burbank\, CA\, 91502\, United States
CATEGORIES:Public
ATTACH;FMTTYPE=image/png:https://californiacreativearts.org/wp-content/uploads/2025/08/web-Transformation.png
ORGANIZER;CN="California Creative Arts":MAILTO:cca@californiacreativearts.org
END:VEVENT
BEGIN:VEVENT
DTSTART;TZID=UTC:20250923T090000
DTEND;TZID=UTC:20260105T190000
DTSTAMP:20260425T040325
CREATED:20251010T193836Z
LAST-MODIFIED:20251010T193934Z
UID:5099-1758618000-1767639600@californiacreativearts.org
SUMMARY:“Baby It’s Cold Outside” California Creative Arts Pocket Gallery at the Joslyn Center
DESCRIPTION:“Baby It’s Cold Outside”\nCalifornia Creative Arts Pocket Gallery at the Joslyn Center\nExhibits September 23\, 2025 – January 5\, 2026 \nSupport local artists! Stop by and see this unique exhibit of smaller art pieces. And yes! They are for sale. \nThe gallery is open during business hours:\nM-TH 8a-8p | F 8a-6p | SA 9a-1p | SU 12p-1p
URL:https://californiacreativearts.org/events/baby-its-cold-outside-california-creative-arts-pocket-gallery-at-the-joslyn-center/
LOCATION:Joslyn Center\, 1301 W. Olive\, Burbank\, CA\, 91506\, United States
CATEGORIES:Public
ATTACH;FMTTYPE=image/png:https://californiacreativearts.org/wp-content/uploads/2025/09/SM-Joslyn-Baby-Its-Cold-2.png
ORGANIZER;CN="California Creative Arts":MAILTO:cca@californiacreativearts.org
END:VEVENT
BEGIN:VEVENT
DTSTART;TZID=UTC:20250925T110000
DTEND;TZID=UTC:20251206T160000
DTSTAMP:20260425T040325
CREATED:20250918T221401Z
LAST-MODIFIED:20250920T235347Z
UID:5046-1758798000-1765036800@californiacreativearts.org
SUMMARY:"Seeing Chicanx: The Durón Family Collection"
DESCRIPTION:The Laband Art Gallery proudly presents its Fall 2025 exhibition “Seeing Chicanx: The Durón Family Collection” on view from Sept. 25 to Dec. 6\, 2025. Exhibited during National Hispanic Heritage Month\, this expansive show presents a selection of nearly 50 Chicanx artists who have called Southern California their home. “Seeing Chicanx” is curated by Karen Mary Davalos\, a leading scholar of Chicana/o/x art history\, and drawn from the private collection of Armando and Mary Salinas Durón. The exhibition offers a multi-faceted portrayal of the Los Angeles region’s Chicanx art scene from the 1970s to present day. Davalos has selected close to 50 works from the Durón collection — that\, to date\, comprises more than 700 pieces — to encapsulate the cultural\, social\, and artistic ripple effects of the historic Chicano Movement (1965-80). \nOriginally exhibited at Monterey Museum of Art in spring 2024\, this traveling exhibition highlights key contemporary works from the collection to provide a visual history of the Chicanx community’s creative vitality in California. \nPublic Programming: \nCurator’s Walkthrough with Karen Mary Davalos\nSaturday\, Sept. 27\, 2025 Noon to 1 p.m.\, Laband Art Gallery \nOpening Reception\nSaturday\, Sept. 27\, 2025\, from 1 to 3 p.m.\, Laband Art Gallery \nGallery Conversation with Armando Durón & Max Durón\nSaturday\, Nov. 15\, 2025\, 1 p.m.\, Laband Art Gallery\nJoin Armando Durón and his son Maximiliano Durón\, senior editor of ARTnews\, in their first public discussion about the Durón Family Collection \nWESTCHESTER MAIN CAMPUS\n1 LMU Drive\nLos Angeles\, CA 90045\n310.338.2700 \nPhoto credit: Roberto Gutierrez (b. 1943)\, “Trees on Lorena Street\,” 2008\, Acrylic on canvas\, 36 x 24 in. The Durón Family Collection\, Copyright held by the artist.
URL:https://californiacreativearts.org/events/seeing-chicanx-the-duron-family-collection/
LOCATION:Laband Art Gallery\, 1 LMU Drive\, Los Angeles\, CA\, 90045
CATEGORIES:Public
ATTACH;FMTTYPE=image/jpeg:https://californiacreativearts.org/wp-content/uploads/2025/09/duron-family-collection-roberto-gutierrez.jpg
END:VEVENT
BEGIN:VEVENT
DTSTART;TZID=UTC:20250927T110000
DTEND;TZID=UTC:20250927T180000
DTSTAMP:20260425T040325
CREATED:20250917T233441Z
LAST-MODIFIED:20250917T233441Z
UID:5023-1758970800-1758996000@californiacreativearts.org
SUMMARY:Montana Avenue Art Walk
DESCRIPTION:Saturday September 27\, 2025 \n11a-6p \nMontana Avenue between 9th & 17th in Santa Monica!
URL:https://californiacreativearts.org/events/montana-avenue-art-walk/
LOCATION:CA
CATEGORIES:Public
ATTACH;FMTTYPE=image/jpeg:https://californiacreativearts.org/wp-content/uploads/2025/09/montana-invite-2025.jpg
END:VEVENT
END:VCALENDAR