BEGIN:VCALENDAR
VERSION:2.0
PRODID:-//California Creative Arts, Inc - ECPv6.15.20//NONSGML v1.0//EN
CALSCALE:GREGORIAN
METHOD:PUBLISH
X-ORIGINAL-URL:https://californiacreativearts.org
X-WR-CALDESC:Events for California Creative Arts, Inc
REFRESH-INTERVAL;VALUE=DURATION:PT1H
X-Robots-Tag:noindex
X-PUBLISHED-TTL:PT1H
BEGIN:VTIMEZONE
TZID:UTC
BEGIN:STANDARD
TZOFFSETFROM:+0000
TZOFFSETTO:+0000
TZNAME:UTC
DTSTART:20230101T000000
END:STANDARD
END:VTIMEZONE
BEGIN:VEVENT
DTSTART;TZID=UTC:20241102T110000
DTEND;TZID=UTC:20241102T160000
DTSTAMP:20260426T044031
CREATED:20240920T040939Z
LAST-MODIFIED:20241020T235727Z
UID:3723-1730545200-1730563200@californiacreativearts.org
SUMMARY:ASMA Burbank's Holiday Boutique
DESCRIPTION:Come and support local artists and artisans at the Holiday Boutique located at Burbank’s American School of Martial Arts! \nAmerican School of Martial Arts Burbank and California Creative Arts have come together for this year’s ASMA-Burbank Holiday Boutique. This family friendly event will have arts\, crafts\, and treats for sale\, handmade by local artist\, along with live entertainment. \nYou’ll also have an opportunity to join American School of Martial Arts Burbank at lower cost\, only available at the Holiday Boutique. So kick in the holiday season by joining us Saturday November 2nd\, at 11am. We’ll see you soon.
URL:https://californiacreativearts.org/events/asma-burbanks-holiday-boutique/
LOCATION:American School of Martial Arts\, 1600 W Magnolia Blvd.\, Burbank\, CA\, 91506
CATEGORIES:Public
ATTACH;FMTTYPE=image/jpeg:https://californiacreativearts.org/wp-content/uploads/2024/09/Boutique-24-1.1-ASMA.jpg
ORGANIZER;CN="California Creative Arts":MAILTO:cca@californiacreativearts.org
END:VEVENT
END:VCALENDAR