BEGIN:VCALENDAR
VERSION:2.0
PRODID:-//California Creative Arts, Inc - ECPv6.15.20//NONSGML v1.0//EN
CALSCALE:GREGORIAN
METHOD:PUBLISH
X-WR-CALNAME:California Creative Arts, Inc
X-ORIGINAL-URL:https://californiacreativearts.org
X-WR-CALDESC:Events for California Creative Arts, Inc
REFRESH-INTERVAL;VALUE=DURATION:PT1H
X-Robots-Tag:noindex
X-PUBLISHED-TTL:PT1H
BEGIN:VTIMEZONE
TZID:UTC
BEGIN:STANDARD
TZOFFSETFROM:+0000
TZOFFSETTO:+0000
TZNAME:UTC
DTSTART:20240101T000000
END:STANDARD
END:VTIMEZONE
BEGIN:VEVENT
DTSTART;TZID=UTC:20250315T100000
DTEND;TZID=UTC:20250315T160000
DTSTAMP:20260425T191311
CREATED:20250315T034202Z
LAST-MODIFIED:20250315T034202Z
UID:4219-1742032800-1742054400@californiacreativearts.org
SUMMARY:The Queer Mercado
DESCRIPTION:
URL:https://californiacreativearts.org/events/the-queer-mercado/
LOCATION:East LA Civic Center\, 4801 E 3rd St\, Los Angeles\, CA\, 90022
CATEGORIES:Public
ATTACH;FMTTYPE=image/png:https://californiacreativearts.org/wp-content/uploads/2025/03/Screenshot-2025-03-14-at-8.39.44 PM.png
END:VEVENT
END:VCALENDAR