BEGIN:VCALENDAR
VERSION:2.0
PRODID:-//California Creative Arts, Inc - ECPv6.15.20//NONSGML v1.0//EN
CALSCALE:GREGORIAN
METHOD:PUBLISH
X-ORIGINAL-URL:https://californiacreativearts.org
X-WR-CALDESC:Events for California Creative Arts, Inc
REFRESH-INTERVAL;VALUE=DURATION:PT1H
X-Robots-Tag:noindex
X-PUBLISHED-TTL:PT1H
BEGIN:VTIMEZONE
TZID:UTC
BEGIN:STANDARD
TZOFFSETFROM:+0000
TZOFFSETTO:+0000
TZNAME:UTC
DTSTART:20240101T000000
END:STANDARD
END:VTIMEZONE
BEGIN:VEVENT
DTSTART;TZID=UTC:20250927T110000
DTEND;TZID=UTC:20250927T180000
DTSTAMP:20260425T132940
CREATED:20250917T233441Z
LAST-MODIFIED:20250917T233441Z
UID:5023-1758970800-1758996000@californiacreativearts.org
SUMMARY:Montana Avenue Art Walk
DESCRIPTION:Saturday September 27\, 2025 \n11a-6p \nMontana Avenue between 9th & 17th in Santa Monica!
URL:https://californiacreativearts.org/events/montana-avenue-art-walk/
CATEGORIES:Public
ATTACH;FMTTYPE=image/jpeg:https://californiacreativearts.org/wp-content/uploads/2025/09/montana-invite-2025.jpg
END:VEVENT
END:VCALENDAR