BEGIN:VCALENDAR
VERSION:2.0
PRODID:-//California Creative Arts, Inc - ECPv6.15.20//NONSGML v1.0//EN
CALSCALE:GREGORIAN
METHOD:PUBLISH
X-WR-CALNAME:California Creative Arts, Inc
X-ORIGINAL-URL:https://californiacreativearts.org
X-WR-CALDESC:Events for California Creative Arts, Inc
REFRESH-INTERVAL;VALUE=DURATION:PT1H
X-Robots-Tag:noindex
X-PUBLISHED-TTL:PT1H
BEGIN:VTIMEZONE
TZID:UTC
BEGIN:STANDARD
TZOFFSETFROM:+0000
TZOFFSETTO:+0000
TZNAME:UTC
DTSTART:20240101T000000
END:STANDARD
END:VTIMEZONE
BEGIN:VEVENT
DTSTART;TZID=UTC:20250202T140000
DTEND;TZID=UTC:20250202T170000
DTSTAMP:20260426T001938
CREATED:20250103T055832Z
LAST-MODIFIED:20250103T055832Z
UID:4050-1738504800-1738515600@californiacreativearts.org
SUMMARY:Burbank Arts Mixer
DESCRIPTION:You’re Invited to the Burbank Arts Mixer! Join us for an afternoon of creativity\, connection\, and collaboration at the Burbank Arts Mixer! \nSunday\, February 2nd 2:00 PM Salit Conservatory \nExperience live performances and exhibits by local arts organizations\, enjoy wine and snacks\, and share ideas with fellow creatives and arts enthusiasts. Let’s celebrate and inspire the vibrant arts community of Burbank! RSVP today and be part of this dynamic event. We can’t wait to see you there! \nRegister HERE
URL:https://californiacreativearts.org/events/burbank-arts-mixer/
LOCATION:Salit Conservatory\, 1001 West Riverside Drive\, Burbank\, CA\, 91506\, United States
CATEGORIES:Public
ATTACH;FMTTYPE=image/png:https://californiacreativearts.org/wp-content/uploads/2025/01/Simple-Tix-Burbank-Arts-Mixer.png
END:VEVENT
END:VCALENDAR