BEGIN:VCALENDAR
VERSION:2.0
PRODID:-//California Creative Arts, Inc - ECPv6.15.20//NONSGML v1.0//EN
CALSCALE:GREGORIAN
METHOD:PUBLISH
X-WR-CALNAME:California Creative Arts, Inc
X-ORIGINAL-URL:https://californiacreativearts.org
X-WR-CALDESC:Events for California Creative Arts, Inc
REFRESH-INTERVAL;VALUE=DURATION:PT1H
X-Robots-Tag:noindex
X-PUBLISHED-TTL:PT1H
BEGIN:VTIMEZONE
TZID:UTC
BEGIN:STANDARD
TZOFFSETFROM:+0000
TZOFFSETTO:+0000
TZNAME:UTC
DTSTART:20240101T000000
END:STANDARD
END:VTIMEZONE
BEGIN:VEVENT
DTSTART;TZID=UTC:20250909T110000
DTEND;TZID=UTC:20251103T210000
DTSTAMP:20260425T105152
CREATED:20250824T174125Z
LAST-MODIFIED:20250824T174144Z
UID:4779-1757415600-1762203600@californiacreativearts.org
SUMMARY:“Trans/formation” Art Exhibit at the Colony Theatre
DESCRIPTION:Grab a friend\, watch a show or just mosey on over to see this fabulous exhibit. \nOpen during showtimes. \nPlease check The Colony Theatre for times.
URL:https://californiacreativearts.org/events/trans-formation-art-exhibit-at-the-colony-theatre/
LOCATION:The Colony Theatre\, 555 N. 3rd St.\, Burbank\, CA\, 91502\, United States
CATEGORIES:Public
ATTACH;FMTTYPE=image/png:https://californiacreativearts.org/wp-content/uploads/2025/08/web-Transformation.png
ORGANIZER;CN="California Creative Arts":MAILTO:cca@californiacreativearts.org
END:VEVENT
END:VCALENDAR