BEGIN:VCALENDAR
VERSION:2.0
PRODID:-//California Creative Arts, Inc - ECPv6.15.20//NONSGML v1.0//EN
CALSCALE:GREGORIAN
METHOD:PUBLISH
X-ORIGINAL-URL:https://californiacreativearts.org
X-WR-CALDESC:Events for California Creative Arts, Inc
REFRESH-INTERVAL;VALUE=DURATION:PT1H
X-Robots-Tag:noindex
X-PUBLISHED-TTL:PT1H
BEGIN:VTIMEZONE
TZID:UTC
BEGIN:STANDARD
TZOFFSETFROM:+0000
TZOFFSETTO:+0000
TZNAME:UTC
DTSTART:20240101T000000
END:STANDARD
END:VTIMEZONE
BEGIN:VEVENT
DTSTART;TZID=UTC:20250419T093000
DTEND;TZID=UTC:20250420T163000
DTSTAMP:20260425T233032
CREATED:20250315T034942Z
LAST-MODIFIED:20250315T035601Z
UID:4223-1745055000-1745166600@californiacreativearts.org
SUMMARY:ACS Clay Festival & Marketplace
DESCRIPTION:The American Ceramic Society of Southern California presents this two-day show of work created by local artists. Included in paid admission. Members free. \nTo find out how you can participate\, or for information on membership\, contact Susan Spohr: Susan.Spohr@gmail.com or text at: 213-792-0832.
URL:https://californiacreativearts.org/events/acs-clay-festival-marketplace/
LOCATION:Los Angeles County Arboretum\, 301 North Baldwin Ave\, Arcadia\, CA\, 91007
CATEGORIES:Public
ATTACH;FMTTYPE=image/jpeg:https://californiacreativearts.org/wp-content/uploads/2025/03/Ceramic-LA-COUNTY-ARBORETUM.jpeg
END:VEVENT
END:VCALENDAR