BEGIN:VCALENDAR
VERSION:2.0
PRODID:-//California Creative Arts, Inc - ECPv6.15.20//NONSGML v1.0//EN
CALSCALE:GREGORIAN
METHOD:PUBLISH
X-WR-CALNAME:California Creative Arts, Inc
X-ORIGINAL-URL:https://californiacreativearts.org
X-WR-CALDESC:Events for California Creative Arts, Inc
REFRESH-INTERVAL;VALUE=DURATION:PT1H
X-Robots-Tag:noindex
X-PUBLISHED-TTL:PT1H
BEGIN:VTIMEZONE
TZID:UTC
BEGIN:STANDARD
TZOFFSETFROM:+0000
TZOFFSETTO:+0000
TZNAME:UTC
DTSTART:20240101T000000
END:STANDARD
END:VTIMEZONE
BEGIN:VEVENT
DTSTART;TZID=UTC:20251104T120000
DTEND;TZID=UTC:20251231T210000
DTSTAMP:20260426T013816
CREATED:20251030T043013Z
LAST-MODIFIED:20251030T043013Z
UID:5216-1762257600-1767214800@californiacreativearts.org
SUMMARY:“Chroma Frost” Art Exhibit at The Colony Theatre
DESCRIPTION:This exhibit coincides with the winter productions at the Colony Theatre! \nOpen during show times and Tuesday Open Mic Night 6p-9p\nPlease check the website for times.
URL:https://californiacreativearts.org/events/chroma-frost-art-exhibit-at-the-colony-theatre/
LOCATION:The Colony Theatre\, 555 N. 3rd St.\, Burbank\, CA\, 91502\, United States
CATEGORIES:Public
ATTACH;FMTTYPE=image/png:https://californiacreativearts.org/wp-content/uploads/2025/10/ChromaFrost-sq.png
ORGANIZER;CN="California Creative Arts":MAILTO:cca@californiacreativearts.org
END:VEVENT
END:VCALENDAR