BEGIN:VCALENDAR
VERSION:2.0
PRODID:-//California Creative Arts, Inc - ECPv6.15.20//NONSGML v1.0//EN
CALSCALE:GREGORIAN
METHOD:PUBLISH
X-WR-CALNAME:California Creative Arts, Inc
X-ORIGINAL-URL:https://californiacreativearts.org
X-WR-CALDESC:Events for California Creative Arts, Inc
REFRESH-INTERVAL;VALUE=DURATION:PT1H
X-Robots-Tag:noindex
X-PUBLISHED-TTL:PT1H
BEGIN:VTIMEZONE
TZID:UTC
BEGIN:STANDARD
TZOFFSETFROM:+0000
TZOFFSETTO:+0000
TZNAME:UTC
DTSTART:20240101T000000
END:STANDARD
END:VTIMEZONE
BEGIN:VEVENT
DTSTART;TZID=UTC:20250627T000000
DTEND;TZID=UTC:20250630T233000
DTSTAMP:20260425T140114
CREATED:20250802T220224Z
LAST-MODIFIED:20250802T221728Z
UID:4695-1750982400-1751326200@californiacreativearts.org
SUMMARY:Call for Art: “Bill & Penny’s Excellent Adventure” at GFCU
DESCRIPTION:Your original artwork will be on exhibit in the Gain lobby during regular business hours! \nClick HERE for details.
URL:https://californiacreativearts.org/events/call-for-art-bill-pennys-excellent-adventure-at-gfcu/
LOCATION:Gain Federal Credit Union\, 1800 W. Magnolia Blvd.\, Burbank\, CA\, United States
CATEGORIES:Public
ATTACH;FMTTYPE=image/png:https://californiacreativearts.org/wp-content/uploads/2025/08/CFA-Bill-Penny.png
ORGANIZER;CN="California Creative Arts":MAILTO:cca@californiacreativearts.org
END:VEVENT
END:VCALENDAR