BEGIN:VCALENDAR
VERSION:2.0
PRODID:-//California Creative Arts, Inc - ECPv6.15.20//NONSGML v1.0//EN
CALSCALE:GREGORIAN
METHOD:PUBLISH
X-ORIGINAL-URL:https://californiacreativearts.org
X-WR-CALDESC:Events for California Creative Arts, Inc
REFRESH-INTERVAL;VALUE=DURATION:PT1H
X-Robots-Tag:noindex
X-PUBLISHED-TTL:PT1H
BEGIN:VTIMEZONE
TZID:UTC
BEGIN:STANDARD
TZOFFSETFROM:+0000
TZOFFSETTO:+0000
TZNAME:UTC
DTSTART:20240101T000000
END:STANDARD
END:VTIMEZONE
BEGIN:VEVENT
DTSTART;TZID=UTC:20250520T120000
DTEND;TZID=UTC:20250713T210000
DTSTAMP:20260425T132852
CREATED:20250524T172600Z
LAST-MODIFIED:20250618T223947Z
UID:4357-1747742400-1752440400@californiacreativearts.org
SUMMARY:“1985” Art Exhibit at The Colony Theatre
DESCRIPTION:Grab a friend\, see a play or just mosey on over to see this fabulous exhibit. \nOpen during showtimes. \nPlease check The Colony Theatre for times. \nExhibit coincides with the production of\n“The Wedding Singer”
URL:https://californiacreativearts.org/events/1985-art-exhibit-at-the-colony-theatre/
LOCATION:The Colony Theatre\, 555 N. 3rd St.\, Burbank\, CA\, 91502\, United States
CATEGORIES:Public
ATTACH;FMTTYPE=image/png:https://californiacreativearts.org/wp-content/uploads/2025/06/SM-1985-extended.png
END:VEVENT
END:VCALENDAR